BEGIN:VCALENDAR
PRODID:-//vBulletin 6//EN
VERSION:2.0
CALSCALE:GREGORIAN
BEGIN:VEVENT
UID:5e9b3ac2-feff-43c8-b975-d585811ddd90
DTSTAMP:20260422T205313Z
SUMMARY:Hashes\; Smothered\, Covered\, and Scattered: Modern Password Crack
 ing as a Methodology
DESCRIPTION:With the explosion of GPU enabled processing power password cra
 cking has long grown beyond the standard wordlist. New tools and technique
 s are being used in order to effectively and efficiently crack passwords t
 hat just a few years ago would have be unfathomable.\nPeople often ask me\
 , what is the best way to crack this hash\, and the truth is it really dep
 ends. Let us introduce some of the more modern and best ways to attack pas
 swords by analyzing the language structures and character patterns of pass
 words\, as well as developing custom rules and rule chains to maximize eff
 ort. Password cracking is one of those things that has been around for a l
 ong time\, however people often do not associate a methodology behind it a
 nd consider it just a tool. My presentation has a large amount of content 
 to cover within a 50-minute window\, therefore our demos are light and qui
 ck showing the different tools built for cracking locally\, in the cloud\,
  or in a distributed environment. I feel that by passing along the knowled
 ge of the ins and outs of the tools will be more valuable than having peop
 le watch us crack passwords on the screen. The slide decks can be made ava
 ilable to participants and contains sample commands for them to try out ea
 ch technique I present.\n\nSpeaker(s): Lee Wangenheim\n\nLocation: Red Tea
 m Vlg\n\nDiscord: https://discord.com/channels/708208267699945503/72647735
 7820411944\n\nEvent starts: 2020-08-09 12:15 (12:15 PM) PDT (UTC -07:00)\n
 \nEvent ends: 2020-08-09 13:15 (01:15 PM) PDT (UTC -07:00)\n\nFor the most
  up-to-date information\, please either visit https://info.defcon.org\, or
  use HackerTracker\, which is available for iOS and Android. This is an au
 tomated message\, and this data was last modified 2020-07-29T01:28 (UTC).
URL:https://forum.defcon.org/node/234341
DTSTART:20200809T201500Z
DTEND:20200809T211501Z
LOCATION:Red Team Vlg
END:VEVENT
END:VCALENDAR
