BEGIN:VCALENDAR
PRODID:-//vBulletin 6//EN
VERSION:2.0
CALSCALE:GREGORIAN
BEGIN:VEVENT
UID:bf9af78c-4e14-47d1-b46a-b0376badb757
DTSTAMP:20260420T160457Z
SUMMARY:Pickpocketing @ Home
DESCRIPTION:Speaker(s): James Harrison\n\nLocation: Rogues Vlg\n\nDiscord: 
 https://discord.com/channels/7082082...19010186313870 (https://discord.com
 /channels/708208267699945503/735999521590607872/736419010186313870)\n\nEve
 nt starts: 2020-08-07 16:00 (04:00 PM) PDT (UTC -07:00)\n\nEvent ends: 202
 0-08-07 18:00 (06:00 PM) PDT (UTC -07:00)\n\nFor the most up-to-date infor
 mation\, please either visit https://info.defcon.org\, or use HackerTracke
 r\, which is available for iOS and Android. This is an automated message\,
  and this data was last modified 2020-07-31T01:10 (UTC).
URL:https://forum.defcon.org/node/234350
DTSTART:20200808T000000Z
DTEND:20200808T020001Z
LOCATION:Rogues Vlg
END:VEVENT
END:VCALENDAR
