BEGIN:VCALENDAR
PRODID:-//vBulletin 6//EN
VERSION:2.0
CALSCALE:GREGORIAN
BEGIN:VEVENT
UID:2942f240-00ab-4193-9c78-27be70dbea35
DTSTAMP:20260420T203423Z
SUMMARY:Outs\, Forces\, and Equivoque:  A treatise on how Magicians speak
DESCRIPTION:Title: Outs\, Forces\, and Equivoque: A treatise on how Magicia
 ns speak\n\nDescription:\nIn this talk\, BM explores the similarities of l
 anguage between both a magician and social engineer. Learn about common la
 nguage tricks and methods used in magic and how those same methods could b
 e used to make your social engineering more effective. After learning thes
 e principals\, learn how to apply them them in ethical scenarios to help p
 ractice your skills\, as well as having the tools to create new ones.\n\nS
 peaker(s): Brandon Martinez\n\nLocation: Rogues Vlg\n\nDiscord: https://di
 scord.com/channels/708208267699945503/735999521590607872/73641901018631387
 0\n\nEvent starts: 2020-08-08 16:00 (04:00 PM) PDT (UTC -07:00)\n\nEvent e
 nds: 2020-08-08 18:00 (06:00 PM) PDT (UTC -07:00)\n\nFor the most up-to-da
 te information\, please either visit https://info.defcon.org\, or use Hack
 erTracker\, which is available for iOS and Android. This is an automated m
 essage\, and this data was last modified 2020-08-03T20:41 (UTC).
URL:https://forum.defcon.org/node/234352
DTSTART:20200809T000000Z
DTEND:20200809T020001Z
LOCATION:Rogues Vlg
END:VEVENT
END:VCALENDAR
