BEGIN:VCALENDAR
PRODID:-//vBulletin 6//EN
VERSION:2.0
CALSCALE:GREGORIAN
BEGIN:VEVENT
UID:7235c27f-e63e-42a3-97d2-3f9b30b4d2cf
DTSTAMP:20260420T160321Z
SUMMARY:Rogues adventure &amp\; the intervillage badge
DESCRIPTION:Title: Rogues adventure & the intervillage badge\n\nDescription
 :\nYou’ve played the game\, now hear the story. ZY\, the author of the R
 ogues Adventure (http://www.foursuits.co/game) will be here to answer your
  questions and talk about his journey in creating the adventure game\, alo
 ng with its integrations with the InterVillage Badge. Michael from Monero 
 Village joins us to talk about the badge itself\, and his collaborative pr
 ocess throughout its creation!\n\nSpeaker(s): Monero Village Team\, Rogues
  Village Team\n\nLocation: Rogues Vlg\n\nDiscord: https://discord.com/chan
 nels/708208267699945503/735999521590607872/736419010186313870\n\nEvent sta
 rts: 2020-08-09 12:00 (12:00 PM) PDT (UTC -07:00)\n\nEvent ends: 2020-08-0
 9 14:00 (02:00 PM) PDT (UTC -07:00)\n\nFor the most up-to-date information
 \, please either visit https://info.defcon.org\, or use HackerTracker\, wh
 ich is available for iOS and Android. This is an automated message\, and t
 his data was last modified 2020-08-03T20:41 (UTC).
URL:https://forum.defcon.org/node/234353
DTSTART:20200809T200000Z
DTEND:20200809T220001Z
LOCATION:Rogues Vlg
END:VEVENT
END:VCALENDAR
