BEGIN:VCALENDAR
PRODID:-//vBulletin 6//EN
VERSION:2.0
CALSCALE:GREGORIAN
BEGIN:VEVENT
UID:b87ab91d-af6d-4b84-95d6-881f8d05d517
DTSTAMP:20260420T164621Z
SUMMARY:Zeek: An Introduction Into OpenSOC CTF Tools
DESCRIPTION:Title: Zeek: An Introduction Into OpenSOC CTF Tools\n\nDescript
 ion:\nLearn. Play. Do.\n\nEvery year the Blue Team Village hosts OpenSOC. 
 A unique defense CTF meant to teach and test practical incident response s
 kills in an environment that's as close to "the real thing" as it gets.\n\
 nThis year BTV wanted to do more. We know that some Blue Teamers might be 
 unfamiliar with some of the tools used by OpenSOC. And we didn't want that
  to keep anyone from playing this incredible defense simulation.\n\nSo thi
 s year we are dedicating all day Thursday to demo the various OpenSOC tool
 s\, before OpenSOC starts on Friday. These are tools like Graylog\, Moloch
 \, Zeek\, Osquery\, and others that Blue Teamers rely on every day to defe
 nd their networks against attackers.\n\nThat means that after you LEARN th
 e tools\, you can PLAY the OpenSOC CTF\, and then take that knowledge back
  to your own Blue Team to DO the work of defending your network.\n\nSpeake
 r(s): Aaron Soto\, Amber Graner\n\nLocation: Blue Team Vlg / Blue Team Vlg
  - Workshop Track 1\n\nDiscord: https://discord.com/channels/7082082676999
 45503/732454317658734613\n\nEvent starts: 2020-08-06 15:15 (03:15 PM) PDT 
 (UTC -07:00)\n\nEvent ends: 2020-08-06 16:00 (04:00 PM) PDT (UTC -07:00)\n
 \nFor the most up-to-date information\, please either visit https://info.d
 efcon.org\, or use HackerTracker\, which is available for iOS and Android.
  This is an automated message\, and this data was last modified 2020-08-02
 T23:26 (UTC).
URL:https://forum.defcon.org/node/234377
DTSTART:20200806T231500Z
DTEND:20200807T000001Z
LOCATION:Blue Team Vlg / Blue Team Vlg - Workshop Track 1
END:VEVENT
END:VCALENDAR
