BEGIN:VCALENDAR
PRODID:-//vBulletin 6//EN
VERSION:2.0
CALSCALE:GREGORIAN
BEGIN:VEVENT
UID:3c6bf86b-d565-4210-b990-ceac947c6b09
DTSTAMP:20260420T050836Z
SUMMARY:(Beginner) An Introduction to Hunting Adversaries Using the Attack 
 Lifecycle Methodology
DESCRIPTION:Title: (Beginner) An Introduction to Hunting Adversaries Using 
 the Attack Lifecycle Methodology\n\nDescription:\nHave you ever wondered\,
  how should I get started in Threat Hunting? How should I start? What shou
 ld I hunt for? What tools should I use? How should I do it? Have you alway
 s wanted to hunt an APT? Then this intro level workshops is the right plac
 e for you. Our workshop will introduce hunting an APT style attack to dete
 ct malicious activity at each stage of an attack’s lifecycle.\n\nThis wo
 rkshop will introduce you to the Attack Lifecycle model to create a fundam
 ental framework for hunting adversaries. Our workshop will have you hunt a
 n APT style attack to detect malicious activity at each stage of an attack
 ’s lifecycle. This will enable you to connect information found at one s
 tage as leverage for hunting in another stage.\n\nParticipants of this wor
 kshop will have the following takeaways:\n- A fundamental understanding of
  the attacker mindset\n- A fundamental understanding of the phases of the 
 Attack Lifecycle\n- Knowledge of the tools and techniques used by attacker
 s\n- An ability to hunt for attacker tools and techniques using a SIEM\n- 
 Exposure to an APT style attack\n- IMPORTANT: This is a 101 Intro Workshop
 \n\nSpeaker(s): Ben Bornholm\n\nLocation: Blue Team Vlg / Blue Team Vlg - 
 Workshop Track 2\n\nDiscord: https://discord.com/channels/7082082676999455
 03/732454317658734613\n\nEvent starts: 2020-08-07 11:30 (11:30 AM) PDT (UT
 C -07:00)\n\nEvent ends: 2020-08-07 13:30 (01:30 PM) PDT (UTC -07:00)\n\nF
 or the most up-to-date information\, please either visit https://info.defc
 on.org\, or use HackerTracker\, which is available for iOS and Android. Th
 is is an automated message\, and this data was last modified 2020-08-02T23
 :17 (UTC).
URL:https://forum.defcon.org/node/234379
DTSTART:20200807T193000Z
DTEND:20200807T213001Z
LOCATION:Blue Team Vlg / Blue Team Vlg - Workshop Track 2
END:VEVENT
END:VCALENDAR
