BEGIN:VCALENDAR
PRODID:-//vBulletin 6//EN
VERSION:2.0
CALSCALE:GREGORIAN
BEGIN:VEVENT
UID:620c3781-bfb9-4ce2-a474-2a33aedc0944
DTSTAMP:20260421T195449Z
SUMMARY:Identifying and fixing out-of-gas errors in smart contracts with sm
 art fuzzing
DESCRIPTION:Title: Identifying and fixing out-of-gas errors in smart contra
 cts with smart fuzzing\n\nSpeaker(s): Sebastian Banescu\n\nLocation: Block
 chain/BCOS Vlg / Blockchain Vlg\n\nDiscord: https://discord.com/channels/7
 08208267699945503/732733136408019084\n\nEvent starts: 2020-08-08 13:30 (01
 :30 PM) PDT (UTC -07:00)\n\nEvent ends: 2020-08-08 14:00 (02:00 PM) PDT (U
 TC -07:00)\n\nFor the most up-to-date information\, please either visit ht
 tps://info.defcon.org\, or use HackerTracker\, which is available for iOS 
 and Android. This is an automated message\, and this data was last modifie
 d 2020-08-04T22:49 (UTC).
URL:https://forum.defcon.org/node/234480
DTSTART:20200808T213000Z
DTEND:20200808T220001Z
LOCATION:Blockchain/BCOS Vlg / Blockchain Vlg
END:VEVENT
END:VCALENDAR
