BEGIN:VCALENDAR
PRODID:-//vBulletin 6//EN
VERSION:2.0
CALSCALE:GREGORIAN
BEGIN:VEVENT
UID:bb255bf6-16f6-420b-bc7e-3629fa897fbb
DTSTAMP:20260421T135156Z
SUMMARY:7 Phases of Smart Contract Hacking
DESCRIPTION:Title: 7 Phases of Smart Contract Hacking\n\nSpeaker(s): Martin
  Abbatemarco\n\nLocation: Blockchain/BCOS Vlg / Blockchain Vlg\n\nDiscord:
  https://discord.com/channels/708208267699945503/732733136408019084\n\nEve
 nt starts: 2020-08-08 15:00 (03:00 PM) PDT (UTC -07:00)\n\nEvent ends: 202
 0-08-08 16:00 (04:00 PM) PDT (UTC -07:00)\n\nFor the most up-to-date infor
 mation\, please either visit https://info.defcon.org\, or use HackerTracke
 r\, which is available for iOS and Android. This is an automated message\,
  and this data was last modified 2020-08-04T22:49 (UTC).
URL:https://forum.defcon.org/node/234482
DTSTART:20200808T230000Z
DTEND:20200809T000001Z
LOCATION:Blockchain/BCOS Vlg / Blockchain Vlg
END:VEVENT
END:VCALENDAR
