BEGIN:VCALENDAR
PRODID:-//vBulletin 6//EN
VERSION:2.0
CALSCALE:GREGORIAN
BEGIN:VEVENT
UID:896fa967-5c6f-4d40-99e6-5448b1215f78
DTSTAMP:20260421T214638Z
SUMMARY:Modeling systematic threat: testing on mainnet fork
DESCRIPTION:Title: Modeling systematic threat: testing on mainnet fork\n\nS
 peaker(s): Martinet Lee\n\nLocation: Blockchain/BCOS Vlg / Blockchain Vlg\
 n\nDiscord: https://discord.com/channels/708208267699945503/73273313640801
 9084\n\nEvent starts: 2020-08-09 10:10 (10:10 AM) PDT (UTC -07:00)\n\nEven
 t ends: 2020-08-09 11:00 (11:00 AM) PDT (UTC -07:00)\n\nFor the most up-to
 -date information\, please either visit https://info.defcon.org\, or use H
 ackerTracker\, which is available for iOS and Android. This is an automate
 d message\, and this data was last modified 2020-08-04T22:50 (UTC).
URL:https://forum.defcon.org/node/234485
DTSTART:20200809T181000Z
DTEND:20200809T190001Z
LOCATION:Blockchain/BCOS Vlg / Blockchain Vlg
END:VEVENT
END:VCALENDAR
