BEGIN:VCALENDAR
PRODID:-//vBulletin 6//EN
VERSION:2.0
CALSCALE:GREGORIAN
BEGIN:VEVENT
UID:f75f9a15-18c1-4408-ae1a-8b87933737c4
DTSTAMP:20260421T085724Z
SUMMARY:Practical Advice on Threat Hunting Panel
DESCRIPTION:
URL:https://forum.defcon.org/node/234499
DTSTART:20200808T233000Z
DTEND:20200809T003001Z
LOCATION:Blue Team Vlg / Blue Team Vlg - Talks Track 1
END:VEVENT
END:VCALENDAR
