BEGIN:VCALENDAR
PRODID:-//vBulletin 6//EN
VERSION:2.0
CALSCALE:GREGORIAN
BEGIN:VEVENT
UID:cc170c5d-283c-4874-ab25-3b554f26e877
DTSTAMP:20260421T034015Z
SUMMARY:Ham Radio USA License Exams (Friday)
DESCRIPTION:Title: Ham Radio USA License Exams (Friday)\n\nDescription:\nTh
 e Ham Radio Village team is happy to announce that we will be offering vir
 tual license exams this year during DEF CON Safe Mode. The team has negoti
 ated a special discount rate of $5 for the exams. Additionally\, the fee i
 s waived for any applicants that are under the age of 18\, a student with 
 a current student ID\, active military\, or a veteran of the armed forces.
  Registration for exams is required.\n\n=====\n\nTwitter: https://twitter.
 com/DC_Ham_Exams\n\nDiscord: https://discord.com/channels/7082082676999455
 03/732733631667372103\n\nInfo/Reg: https://ham.study/sessions/5f0e7677295c
 50941c2cad5f/1\n\nLocation: Ham Exams / See Description or Village\n\nDisc
 ord: https://discord.com/channels/708208267699945503/732733631667372103\n\
 nEvent starts: 2020-08-07 11:00 (11:00 AM) PDT (UTC -07:00)\n\nEvent ends:
  2020-08-07 14:00 (02:00 PM) PDT (UTC -07:00)\n\nFor the most up-to-date i
 nformation\, please either visit https://info.defcon.org\, or use HackerTr
 acker\, which is available for iOS and Android. This is an automated messa
 ge\, and this data was last modified 2020-08-06T20:50 (UTC).
URL:https://forum.defcon.org/node/234532
DTSTART:20200807T190000Z
DTEND:20200807T220001Z
LOCATION:Ham Exams / See Description or Village
END:VEVENT
END:VCALENDAR
