BEGIN:VCALENDAR
PRODID:-//vBulletin 6//EN
VERSION:2.0
CALSCALE:GREGORIAN
BEGIN:VEVENT
UID:de6fd51b-f41a-4ed6-a9f2-cd787aee72d0
DTSTAMP:20260421T060406Z
SUMMARY:Ham Radio USA License Exams
DESCRIPTION:Title: Ham Radio USA License Exams\n\nDescription:\nThe Ham Rad
 io Village team is happy to announce that we will be offering virtual lice
 nse exams this year during DEF CON Safe Mode. The team has negotiated a sp
 ecial discount rate of $5 for the exams. Additionally\, the fee is waived 
 for any applicants that are under the age of 18\, a student with a current
  student ID\, active military\, or a veteran of the armed forces. Registra
 tion for exams is required. https://ham.study/sessions/5f0e7799017958f2523
 dbb97/1 to find out more information and to register.\n\nYou can also foll
 ow https://twitter.com/DC_Ham_Exams for more information.\n\nDiscord: http
 s://discord.com/channels/708208267699945503/732733631667372103\n\nLocation
 : Ham Exams / See Description or Village\n\nDiscord: https://discord.com/c
 hannels/708208267699945503/732733631667372103\n\nEvent starts: 2020-08-08 
 14:00 (02:00 PM) PDT (UTC -07:00)\n\nEvent ends: 2020-08-08 17:00 (05:00 P
 M) PDT (UTC -07:00)\n\nFor the most up-to-date information\, please either
  visit https://info.defcon.org\, or use HackerTracker\, which is available
  for iOS and Android. This is an automated message\, and this data was las
 t modified 2020-08-05T22:44 (UTC).
URL:https://forum.defcon.org/node/234533
DTSTART:20200808T220000Z
DTEND:20200809T010001Z
LOCATION:Ham Exams / See Description or Village
END:VEVENT
END:VCALENDAR
