BEGIN:VCALENDAR
PRODID:-//vBulletin 6//EN
VERSION:2.0
CALSCALE:GREGORIAN
BEGIN:VEVENT
UID:6b2a3498-4479-4850-9ba9-db6650c42467
DTSTAMP:20260420T214142Z
SUMMARY:Ham Radio USA License Exams (Saturday)
DESCRIPTION:Title: Ham Radio USA License Exams (Saturday)\n\nDescription:\n
 The Ham Radio Village team is happy to announce that we will be offering v
 irtual license exams this year during DEF CON Safe Mode. The team has nego
 tiated a special discount rate of $5 for the exams. Additionally\, the fee
  is waived for any applicants that are under the age of 18\, a student wit
 h a current student ID\, active military\, or a veteran of the armed force
 s. Registration for exams is required. https://ham.study/sessions/5f0e7799
 017958f2523dbb97/1 to find out more information and to register.\n\nYou ca
 n also follow https://twitter.com/DC_Ham_Exams for more information.\n\nDi
 scord: https://discord.com/channels/7082082...33631667372103 (https://disc
 ord.com/channels/708208267699945503/732733631667372103)\n\nLocation: Ham E
 xams / See Description or Village\n\nDiscord: https://discord.com/channels
 /7082082...33631667372103 (https://discord.com/channels/708208267699945503
 /732733631667372103)\n\nEvent starts: 2020-08-08 14:00 (02:00 PM) PDT (UTC
  -07:00)\n\nEvent ends: 2020-08-08 17:00 (05:00 PM) PDT (UTC -07:00)\n\nFo
 r the most up-to-date information\, please either visit https://info.defco
 n.org\, or use HackerTracker\, which is available for iOS and Android. Thi
 s is an automated message\, and this data was last modified 2020-08-05T23:
 18 (UTC).
URL:https://forum.defcon.org/node/234535
DTSTART:20200808T220000Z
DTEND:20200809T010001Z
LOCATION:Ham Exams / See Description or Village
END:VEVENT
END:VCALENDAR
