BEGIN:VCALENDAR
PRODID:-//vBulletin 6//EN
VERSION:2.0
CALSCALE:GREGORIAN
BEGIN:VEVENT
UID:95ba6ff7-9a58-4ccc-ab71-b291377adf35
DTSTAMP:20260420T173641Z
SUMMARY:Ham Radio USA License Exams (Sunday)
DESCRIPTION:Title: Ham Radio USA License Exams (Sunday)\n\nDescription:\nTh
 e Ham Radio Village team is happy to announce that we will be offering vir
 tual license exams this year during DEF CON Safe Mode. The team has negoti
 ated a special discount rate of $5 for the exams. Additionally\, the fee i
 s waived for any applicants that are under the age of 18\, a student with 
 a current student ID\, active military\, or a veteran of the armed forces.
  Registration for exams is required. https://ham.study/sessions/5f0e77d9a4
 7e313e8e5295d9/1 to find out more information and to register.\n\nYou can 
 also follow https://twitter.com/DC_Ham_Exams for more information.\n\nDisc
 ord: https://discord.com/channels/7082082...33631667372103 (https://discor
 d.com/channels/708208267699945503/732733631667372103)\n\nLocation: Ham Exa
 ms / See Description or Village\n\nDiscord: https://discord.com/channels/7
 082082...33631667372103 (https://discord.com/channels/708208267699945503/7
 32733631667372103)\n\nEvent starts: 2020-08-09 15:00 (03:00 PM) PDT (UTC -
 07:00)\n\nEvent ends: 2020-08-09 18:00 (06:00 PM) PDT (UTC -07:00)\n\nFor 
 the most up-to-date information\, please either visit https://info.defcon.
 org\, or use HackerTracker\, which is available for iOS and Android. This 
 is an automated message\, and this data was last modified 2020-08-05T23:18
  (UTC).
URL:https://forum.defcon.org/node/234536
DTSTART:20200809T230000Z
DTEND:20200810T020001Z
LOCATION:Ham Exams / See Description or Village
END:VEVENT
END:VCALENDAR
