BEGIN:VCALENDAR
PRODID:-//vBulletin 6//EN
VERSION:2.0
CALSCALE:GREGORIAN
BEGIN:VEVENT
UID:c3e49abc-7a80-4ff9-b4c3-f592285e18e3
DTSTAMP:20260420T112839Z
SUMMARY:Village Opening Remarks
DESCRIPTION:Title: Village Opening Remarks\n\nDescription:\nWelcome to Ham 
 Radio Village @ DEF CON Safe Mode\n\nLocation: Ham Radio Vlg / Ham Radio V
 illage\n\nDiscord: https://discord.com/channels/708208267699945503/7327336
 31667372103\n\nEvent starts: 2020-08-07 10:00 (10:00 AM) PDT (UTC -07:00)\
 n\nEvent ends: 2020-08-07 10:15 (10:15 AM) PDT (UTC -07:00)\n\nFor the mos
 t up-to-date information\, please either visit https://info.defcon.org\, o
 r use HackerTracker\, which is available for iOS and Android. This is an a
 utomated message\, and this data was last modified 2020-08-05T22:50 (UTC).
URL:https://forum.defcon.org/node/234537
DTSTART:20200807T180000Z
DTEND:20200807T181501Z
LOCATION:Ham Radio Vlg / Ham Radio Village
END:VEVENT
END:VCALENDAR
