BEGIN:VCALENDAR
PRODID:-//vBulletin 6//EN
VERSION:2.0
CALSCALE:GREGORIAN
BEGIN:VEVENT
UID:2054afd6-b944-47fd-9227-c2310f1d8f20
DTSTAMP:20260420T173611Z
SUMMARY:Discussion: What makes a good ham radio operator?
DESCRIPTION:Title: Discussion: What makes a good ham radio operator?\n\nDes
 cription:\nPanel discussion around what makes a good ham operator\, as opp
 osed to a 'lid' (a bad operator). We'll also talk about all of the strange
  lingo ham radio loves to use.\n\nLocation: Ham Radio Vlg / Ham Radio Vill
 age\n\nDiscord: https://discord.com/channels/708208267699945503/7327336316
 67372103\n\nEvent starts: 2020-08-08 11:30 (11:30 AM) PDT (UTC -07:00)\n\n
 Event ends: 2020-08-08 12:30 (12:30 PM) PDT (UTC -07:00)\n\nFor the most u
 p-to-date information\, please either visit https://info.defcon.org\, or u
 se HackerTracker\, which is available for iOS and Android. This is an auto
 mated message\, and this data was last modified 2020-08-05T22:52 (UTC).
URL:https://forum.defcon.org/node/234542
DTSTART:20200808T193000Z
DTEND:20200808T203001Z
LOCATION:Ham Radio Vlg / Ham Radio Village
END:VEVENT
END:VCALENDAR
