BEGIN:VCALENDAR
PRODID:-//vBulletin 6//EN
VERSION:2.0
CALSCALE:GREGORIAN
BEGIN:VEVENT
UID:b02110c6-b19a-49d0-8b12-69ff41d96bcd
DTSTAMP:20260421T085709Z
SUMMARY:The K0BAK Rover Van
DESCRIPTION:Title: The K0BAK Rover Van\n\nDescription:\nCome see how Pete (
 K0BAK) is converting an old TV news station van\, the kind used to produce
  and relay live TV reporting\, into a mobile ham radio station!\n\nLocatio
 n: Ham Radio Vlg / Ham Radio Village\n\nDiscord: https://discord.com/chann
 els/708208267699945503/732733631667372103\n\nEvent starts: 2020-08-09 10:0
 0 (10:00 AM) PDT (UTC -07:00)\n\nEvent ends: 2020-08-09 11:30 (11:30 AM) P
 DT (UTC -07:00)\n\nFor the most up-to-date information\, please either vis
 it https://info.defcon.org\, or use HackerTracker\, which is available for
  iOS and Android. This is an automated message\, and this data was last mo
 dified 2020-08-05T22:54 (UTC).
URL:https://forum.defcon.org/node/234545
DTSTART:20200809T180000Z
DTEND:20200809T193001Z
LOCATION:Ham Radio Vlg / Ham Radio Village
END:VEVENT
END:VCALENDAR
