BEGIN:VCALENDAR
PRODID:-//vBulletin 6//EN
VERSION:2.0
CALSCALE:GREGORIAN
BEGIN:VEVENT
UID:425ce8b8-c170-4dcf-9d41-f4407681c0b5
DTSTAMP:20260420T083003Z
SUMMARY:Village Closing Commentary
DESCRIPTION:Title: Village Closing Commentary\n\nDescription:\nAs our villa
 ge wraps up for this year\, a huge thank you to everyone for participating
 !\n\nLocation: Ham Radio Vlg / Ham Radio Village\n\nDiscord: https://disco
 rd.com/channels/708208267699945503/732733631667372103\n\nEvent starts: 202
 0-08-09 14:30 (02:30 PM) PDT (UTC -07:00)\n\nEvent ends: 2020-08-09 14:45 
 (02:45 PM) PDT (UTC -07:00)\n\nFor the most up-to-date information\, pleas
 e either visit https://info.defcon.org\, or use HackerTracker\, which is a
 vailable for iOS and Android. This is an automated message\, and this data
  was last modified 2020-08-05T22:54 (UTC).
URL:https://forum.defcon.org/node/234547
DTSTART:20200809T223000Z
DTEND:20200809T224501Z
LOCATION:Ham Radio Vlg / Ham Radio Village
END:VEVENT
END:VCALENDAR
