BEGIN:VCALENDAR
PRODID:-//vBulletin 6//EN
VERSION:2.0
CALSCALE:GREGORIAN
BEGIN:VEVENT
UID:d8747be5-d02e-4ec3-b325-eee3334b169b
DTSTAMP:20260423T214443Z
SUMMARY:CPX SimpleSat
DESCRIPTION:Title: CPX SimpleSat\n\nDescription:\nCan you Hack-A-Sat? You w
 on’t know until you try! Intended for noobs\, CPX SimpleSat was built to
  allow you to experiment with attacking a mock satellite through a ground 
 station\, mimicking the types of commands used in Hack-a-Sat to gain contr
 ol of the Satellite. No previous experience required. Just curiosity and a
  willingness to learn!\n\nLocation: Aerospace Vlg / Aerospace Vlg Workshop
 \n\nDiscord: https://discord.com/channels/708208267699945503/7323930443634
 44264\n\nEvent starts: 2020-08-09 09:00 (09:00 AM) PDT (UTC -07:00)\n\nEve
 nt ends: 2020-08-09 14:00 (02:00 PM) PDT (UTC -07:00)\n\nFor the most up-t
 o-date information\, please either visit https://info.defcon.org\, or use 
 HackerTracker\, which is available for iOS and Android. This is an automat
 ed message\, and this data was last modified 2020-08-06T02:44 (UTC).
URL:https://forum.defcon.org/node/234571
DTSTART:20200809T170000Z
DTEND:20200809T220001Z
LOCATION:Aerospace Vlg / Aerospace Vlg Workshop
END:VEVENT
END:VCALENDAR
