BEGIN:VCALENDAR
PRODID:-//vBulletin 6//EN
VERSION:2.0
CALSCALE:GREGORIAN
BEGIN:VEVENT
UID:46fc0f35-eada-4f8d-b482-be65e2a77887
DTSTAMP:20260423T215718Z
SUMMARY:Deep Space Networking
DESCRIPTION:Title: Deep Space Networking\n\nDescription:\nDeep space commun
 ications utilize TCP/IP protocols with some added assistance from a TCP Co
 nvergence Layer and the Bundle Protocol. In this workshop\, participants w
 ill examine the store-and-forward techniques used to transmit "bundles" of
  information from one host to another via a relay system. Using the latest
  version of Wireshark\, participants will examine the TCP Convergence Head
 er and locate the first packet of a bundle and the first and second legs o
 f the relay process\, as reassembled by Wireshark. After identifying the c
 ontent contained within the bundle\, participants will create a filter to 
 locate the last packet of a bundle and examine key fields of the Bundle Pr
 otocol\, including fields that define priority\, destination type\, endpoi
 nt IDs\, and reporting of bundle delivery.\n\nLocation: Aerospace Vlg / Ae
 rospace Vlg Workshop\n\nDiscord: https://discord.com/channels/708208267699
 945503/732393044363444264\n\nEvent starts: 2020-08-07 09:00 (09:00 AM) PDT
  (UTC -07:00)\n\nEvent ends: 2020-08-07 16:00 (04:00 PM) PDT (UTC -07:00)\
 n\nFor the most up-to-date information\, please either visit https://info.
 defcon.org\, or use HackerTracker\, which is available for iOS and Android
 . This is an automated message\, and this data was last modified 2020-08-0
 6T02:46 (UTC).
URL:https://forum.defcon.org/node/234575
DTSTART:20200807T170000Z
DTEND:20200808T000001Z
LOCATION:Aerospace Vlg / Aerospace Vlg Workshop
END:VEVENT
END:VCALENDAR
