BEGIN:VCALENDAR
PRODID:-//vBulletin 6//EN
VERSION:2.0
CALSCALE:GREGORIAN
BEGIN:VEVENT
UID:05038bf3-5d1a-4bc7-9d2a-019bd8cfbdcf
DTSTAMP:20260424T004645Z
SUMMARY:Nyan Sat Workshop
DESCRIPTION:Title: Nyan Sat Workshop\n\nDescription:\nWhat’s another way 
 to hack a satellite? Through ground stations.\n\nNyansat consists of three
  fun\, non-competitive challenges: building your own satellite tracking an
 tenna\, exploiting a ground station modem\, and participating in our lives
 treamed\, internet-accessible\, community ground station event.\n\nLocatio
 n: Aerospace Vlg / Aerospace Vlg Workshop\n\nDiscord: https://discord.com/
 channels/708208267699945503/732393044363444264\n\nEvent starts: 2020-08-08
  09:00 (09:00 AM) PDT (UTC -07:00)\n\nEvent ends: 2020-08-08 16:00 (04:00 
 PM) PDT (UTC -07:00)\n\nFor the most up-to-date information\, please eithe
 r visit https://info.defcon.org\, or use HackerTracker\, which is availabl
 e for iOS and Android. This is an automated message\, and this data was la
 st modified 2020-08-06T02:48 (UTC).
URL:https://forum.defcon.org/node/234579
DTSTART:20200808T170000Z
DTEND:20200809T000001Z
LOCATION:Aerospace Vlg / Aerospace Vlg Workshop
END:VEVENT
END:VCALENDAR
