BEGIN:VCALENDAR
PRODID:-//vBulletin 6//EN
VERSION:2.0
CALSCALE:GREGORIAN
BEGIN:VEVENT
UID:0da161d8-998d-4e99-b045-b68dfaec1fa7
DTSTAMP:20260423T215729Z
SUMMARY:Understanding Space Through a CyberSecurity Lens
DESCRIPTION:Title: Understanding Space Through a CyberSecurity Lens\n\nDesc
 ription:\nThis exciting\, fast-paced course delivers the "big picture" of 
 space missions from cradle to grave. Understanding Space is the ideal cour
 se for technical or non-technical professionals new to the space industry 
 or who need a refresher on the fundamentals.\n\nLearning outcomes will be:
 \n- Gain Core Space Knowledge\n- Comprehend space mission Capabilities\, T
 rade-offs and Limitations\n- Apply Space Concepts to real-world problems\n
 - Analyze Typical Space Problems\n- Synthesize concepts to Design a Space 
 Mission\n- Evaluate basic technical and programmatic space issues\n\nThis 
 will be a half-day course instead of the normal 2-day course.\n\nLocation:
  Aerospace Vlg / Aerospace Vlg Workshop\n\nDiscord: https://discord.com/ch
 annels/708208267699945503/732393044363444264\n\nEvent starts: 2020-08-07 1
 4:30 (02:30 PM) PDT (UTC -07:00)\n\nEvent ends: 2020-08-07 18:00 (06:00 PM
 ) PDT (UTC -07:00)\n\nFor the most up-to-date information\, please either 
 visit https://info.defcon.org\, or use HackerTracker\, which is available 
 for iOS and Android. This is an automated message\, and this data was last
  modified 2020-08-06T02:50 (UTC).
URL:https://forum.defcon.org/node/234582
DTSTART:20200807T223000Z
DTEND:20200808T020001Z
LOCATION:Aerospace Vlg / Aerospace Vlg Workshop
END:VEVENT
END:VCALENDAR
