BEGIN:VCALENDAR
PRODID:-//vBulletin 6//EN
VERSION:2.0
CALSCALE:GREGORIAN
BEGIN:VEVENT
UID:afed5cbf-3bb5-4419-8a7f-a4ee72efaa99
DTSTAMP:20260420T095503Z
SUMMARY:Getting Advanced with Hashcat (Rebroadcast)
DESCRIPTION:Title: Getting Advanced with Hashcat (Rebroadcast)\n\nSpeaker(s
 ): Password Village Staff\n\nLocation: Password Vlg\n\nDiscord: https://di
 scord.com/channels/708208267699945503/732733760742621214\n\nEvent starts: 
 2020-08-07 22:40 (10:40 PM) PDT (UTC -07:00)\n\nEvent ends: 2020-08-07 23:
 30 (11:30 PM) PDT (UTC -07:00)\n\nFor the most up-to-date information\, pl
 ease either visit https://info.defcon.org\, or use HackerTracker\, which i
 s available for iOS and Android. This is an automated message\, and this d
 ata was last modified 2020-08-06T00:08 (UTC).
URL:https://forum.defcon.org/node/234595
DTSTART:20200808T064000Z
DTEND:20200808T073001Z
LOCATION:Password Vlg
END:VEVENT
END:VCALENDAR
