BEGIN:VCALENDAR
PRODID:-//vBulletin 6//EN
VERSION:2.0
CALSCALE:GREGORIAN
BEGIN:VEVENT
UID:f2bbd1cd-b8d2-4ee1-9da6-3e52a396d203
DTSTAMP:20260420T033224Z
SUMMARY:Cracking at Extreme Scale: The Evolution of Hashstack (Rebroadcast)
DESCRIPTION:Title: Cracking at Extreme Scale: The Evolution of Hashstack (R
 ebroadcast)\n\nSpeaker(s): Jeremi M Gosney (epixoip)\n\nLocation: Password
  Vlg\n\nDiscord: https://discord.com/channels/708208267699945503/732733760
 742621214\n\nEvent starts: 2020-08-08 21:00 (09:00 PM) PDT (UTC -07:00)\n\
 nEvent ends: 2020-08-08 21:59 (09:59 PM) PDT (UTC -07:00)\n\nFor the most 
 up-to-date information\, please either visit https://info.defcon.org\, or 
 use HackerTracker\, which is available for iOS and Android. This is an aut
 omated message\, and this data was last modified 2020-08-06T00:08 (UTC).
URL:https://forum.defcon.org/node/234596
DTSTART:20200809T050000Z
DTEND:20200809T055901Z
LOCATION:Password Vlg
END:VEVENT
END:VCALENDAR
