BEGIN:VCALENDAR
PRODID:-//vBulletin 6//EN
VERSION:2.0
CALSCALE:GREGORIAN
BEGIN:VEVENT
UID:8a8c2dcd-4ae0-4cd5-80ea-86d6214fd967
DTSTAMP:20260421T165141Z
SUMMARY:AMA w/Policymakers
DESCRIPTION:Title: AMA w/Policymakers\n\nDescription:\nThis event requires 
 registration. Please see the below link for more information.\n\nhttps://w
 ww.eventbrite.com/e/def-con...s-115983414515 (https://www.eventbrite.com/e
 /def-con-policy-ama-ask-a-policymaker-with-tbd-tickets-115983414515)\n\nLo
 cation: Policy Village / See Description or Village\n\nDiscord: https://di
 scord.com/channels/7082082...13506286043182 (https://discord.com/channels/
 708208267699945503/738513506286043182)\n\nEvent starts: 2020-08-08 14:00 (
 02:00 PM) PDT (UTC -07:00)\n\nEvent ends: 2020-08-08 15:00 (03:00 PM) PDT 
 (UTC -07:00)\n\nFor the most up-to-date information\, please either visit 
 https://info.defcon.org\, or use HackerTracker\, which is available for iO
 S and Android. This is an automated message\, and this data was last modif
 ied 2020-08-06T02:00 (UTC).
URL:https://forum.defcon.org/node/234602
DTSTART:20200808T220000Z
DTEND:20200808T230001Z
LOCATION:Policy Vlg / See Description or Village
END:VEVENT
END:VCALENDAR
