BEGIN:VCALENDAR
PRODID:-//vBulletin 6//EN
VERSION:2.0
CALSCALE:GREGORIAN
BEGIN:VEVENT
UID:a2a9b835-3039-42bd-8c64-288046d9694d
DTSTAMP:20260420T191729Z
SUMMARY:Mis/Dis Information &amp\; Democracy
DESCRIPTION:Title: Mis/Dis Information & Democracy\n\nDescription:\nThis ev
 ent requires registration. Please see the below link for more information.
 \n\n=====\n\nRegistration: https://www.eventbrite.com/e/def-con-policy-com
 munity-roundtable-misdis-information-democracy-tickets-115984678295\n\nLoc
 ation: Policy Vlg / See Description or Village\n\nDiscord: https://discord
 .com/channels/708208267699945503/738513506286043182\n\nEvent starts: 2020-
 08-08 16:00 (04:00 PM) PDT (UTC -07:00)\n\nEvent ends: 2020-08-08 17:00 (0
 5:00 PM) PDT (UTC -07:00)\n\nFor the most up-to-date information\, please 
 either visit https://info.defcon.org\, or use HackerTracker\, which is ava
 ilable for iOS and Android. This is an automated message\, and this data w
 as last modified 2020-08-06T21:28 (UTC).
URL:https://forum.defcon.org/node/234603
DTSTART:20200809T000000Z
DTEND:20200809T010001Z
LOCATION:Policy Vlg / See Description or Village
END:VEVENT
END:VCALENDAR
