BEGIN:VCALENDAR
PRODID:-//vBulletin 6//EN
VERSION:2.0
CALSCALE:GREGORIAN
BEGIN:VEVENT
UID:821838cd-82c7-4584-bf90-4e42200e1a94
DTSTAMP:20260420T062427Z
SUMMARY:Burnout is real
DESCRIPTION:Title: Burnout is real\n\nDescription:\nMental health is an ong
 oing issue within infosec before and during COVID-19. There's a fine balan
 ce between hacking and personal life. Majority of the time\, they cross ov
 er. This talk shares an overview of the warning signs\, symptoms\, and pra
 ctices to prevent burnout and how to deal with burnout to keep balanced.\n
 \nSpeaker(s): Chloé Messdaghi\n\nLocation: Recon Vlg\n\nDiscord: https://
 discord.com/channels/708208267699945503/732733566051418193\n\nEvent starts
 : 2020-08-08 11:00 (11:00 AM) PDT (UTC -07:00)\n\nEvent ends: 2020-08-08 1
 1:30 (11:30 AM) PDT (UTC -07:00)\n\nFor the most up-to-date information\, 
 please either visit https://info.defcon.org\, or use HackerTracker\, which
  is available for iOS and Android. This is an automated message\, and this
  data was last modified 2020-08-05T23:33 (UTC).
URL:https://forum.defcon.org/node/234605
DTSTART:20200808T190000Z
DTEND:20200808T193001Z
LOCATION:Recon Vlg
END:VEVENT
END:VCALENDAR
