BEGIN:VCALENDAR
PRODID:-//vBulletin 6//EN
VERSION:2.0
CALSCALE:GREGORIAN
BEGIN:VEVENT
UID:22b5003d-0008-405a-83bb-8461b2990b06
DTSTAMP:20260420T115823Z
SUMMARY:Federal Trade Commision
DESCRIPTION:Title: Federal Trade Commision\n\nDescription:\nThis will be a 
 40-minute pre-recorded talk\, followed by a 30-minute live Q&A session.\n\
 nSpeaker(s): Comm. Rohit Chopra\n\nLocation: Ethics Vlg\n\nDiscord: https:
 //discord.com/channels/708208267699945503/732732980342030449\n\nEvent star
 ts: 2020-08-08 14:10 (02:10 PM) PDT (UTC -07:00)\n\nEvent ends: 2020-08-08
  15:20 (03:20 PM) PDT (UTC -07:00)\n\nFor the most up-to-date information\
 , please either visit https://info.defcon.org\, or use HackerTracker\, whi
 ch is available for iOS and Android. This is an automated message\, and th
 is data was last modified 2020-08-06T23:05 (UTC).
URL:https://forum.defcon.org/node/234737
DTSTART:20200808T221000Z
DTEND:20200808T232001Z
LOCATION:Ethics Vlg
END:VEVENT
END:VCALENDAR
