BEGIN:VCALENDAR
PRODID:-//vBulletin 6//EN
VERSION:2.0
CALSCALE:GREGORIAN
BEGIN:VEVENT
UID:203c94b4-2013-43dc-95fb-2316d8d2a856
DTSTAMP:20260421T034005Z
SUMMARY:Blackmail\, Extortion and the Ethics of Disclosure
DESCRIPTION:Title: Blackmail\, Extortion and the Ethics of Disclosure\n\nDe
 scription:\nThis will be a live talk.\n\nSpeaker(s): Michael Antonino\n\nL
 ocation: Ethics Vlg\n\nDiscord: https://discord.com/channels/7082082676999
 45503/732732980342030449\n\nEvent starts: 2020-08-09 10:00 (10:00 AM) PDT 
 (UTC -07:00)\n\nEvent ends: 2020-08-09 11:00 (11:00 AM) PDT (UTC -07:00)\n
 \nFor the most up-to-date information\, please either visit https://info.d
 efcon.org\, or use HackerTracker\, which is available for iOS and Android.
  This is an automated message\, and this data was last modified 2020-08-06
 T23:07 (UTC).
URL:https://forum.defcon.org/node/234740
DTSTART:20200809T180000Z
DTEND:20200809T190001Z
LOCATION:Ethics Vlg
END:VEVENT
END:VCALENDAR
