BEGIN:VCALENDAR
PRODID:-//vBulletin 6//EN
VERSION:2.0
CALSCALE:GREGORIAN
BEGIN:VEVENT
UID:03ec0da3-82a1-4064-9a8f-cc2cfd95d55e
DTSTAMP:20260420T020704Z
SUMMARY:DEF CON Movie Night - 'The Most Dangerous Game' December 5\, 8pm PS
 T
DESCRIPTION:'The Most Dangerous Game' was made in 1932\, but you can still 
 hear its echoes in modern cinema.  It's a surprisingly tense pre-code thri
 ller about bored rich creeps who hunt humans for sport\, and it walked so 
 'Predator' could run.  Good fun\, and a subtext that finds its way into mo
 vies a lot more often than you think. Watch this space for some more discu
 ssion of the film and join us in the DEF CON Discord Server Saturday Night
  at 8pm PST (discord.gg/defcon/) in movie-night-text and movie-night-voice
 .
URL:https://forum.defcon.org/node/235696
DTSTART:20201206T040000Z
DTEND:20201206T060001Z
LOCATION:DEF CON Discord Server\, movie-night-voice
END:VEVENT
END:VCALENDAR
