BEGIN:VCALENDAR
PRODID:-//vBulletin 6//EN
VERSION:2.0
CALSCALE:GREGORIAN
BEGIN:VEVENT
UID:eb012d19-336c-412c-aa38-b5d3730e1fd1
DTSTAMP:20260419T202935Z
SUMMARY:DEF CON Capture the Flag by Order Of the Overflow
DESCRIPTION:https://oooverflow.io/\nhttps://twitter.com/oooverflow
URL:https://forum.defcon.org/node/236497
DTSTART;VALUE=DATE:20210806
DTEND;VALUE=DATE:20210809
END:VEVENT
END:VCALENDAR
