BEGIN:VCALENDAR
PRODID:-//vBulletin 6//EN
VERSION:2.0
CALSCALE:GREGORIAN
BEGIN:VEVENT
UID:a7a4d339-d17a-4376-bb0f-9c75adc34335
DTSTAMP:20260422T192945Z
SUMMARY:AppSec Village at DEF CON 29
DESCRIPTION:https://www.appsecvillage.com/\n    \nDEF CON Discord Channel (
 https://discord.com/channels/708208267699945503/732733026982690876)\n \n\n
 The first two AppSec Villages were a resounding success. We learned that w
 hether in person or online\, our AppSec community is fantastic. We are pum
 ped to be back bigger and better.\n\nCome immerse yourself in everything t
 he world of application security has to offer. Whether you are a red\, blu
 e\, or purple teamer\, come learn from the best of the best to exploit sof
 tware vulnerabilities and secure software. Software is everywhere\, and Ap
 plication Security vulnerabilities are lurking around every corner\, makin
 g the software attack surface attractive for abuse. If you are just an App
 Sec n00b or launch deserialization attacks for fun and profit\, you will f
 ind something to tickle your interest at the AppSec Village.\n\nSoftware r
 uns the world. Everything from IoT\, medical devices\, the power grid\, sm
 art cars\, voting apps - all of it has software behind it. Such a variety 
 of topics will be reflected in our cadre of guest speakers representing al
 l backgrounds and walks of life.\n\nAppSec Village welcomes all travelers 
 to choose from talks by expert community members\, an all AppSec-focused C
 TF\, contests that challenge your mind and your skillz\, and more. Bring y
 our thirst for knowledge and passion for breaking things\, and your visit 
 to AppSec Village will be a thrill!\n\nLike in the previous villages (but 
 better this time)\, we will focus our efforts on hands-on activities and p
 ractical learning activities. We are planning workshops\, interactive demo
 s\, step-by-step guided walkthroughs\, CTF for AppSec beginners\, and a 
 “reversed CTF” for level builders.
URL:https://forum.defcon.org/node/236577
DTSTART;VALUE=DATE:20210806
DTEND;VALUE=DATE:20210809
END:VEVENT
END:VCALENDAR
