BEGIN:VCALENDAR
PRODID:-//vBulletin 6//EN
VERSION:2.0
CALSCALE:GREGORIAN
BEGIN:VEVENT
UID:4d605dab-f09a-4724-a43b-aec630acb64f
DTSTAMP:20260419T213452Z
SUMMARY:Hack3r Runw@y at DEF CON 29
DESCRIPTION:https://hack3rrunway.github.io/ (https://hack3rrunway.github.io
 /)\nhttps://www.twitter.com/hack3rrunway\n \nFor the third year\, H@ck3r R
 unw@y is bringing together fashionistas out there.  Make it SMART\, LIGHT 
 it up\, OBFUSCATE something\, or be GEEKY on fleek. Enter clothing\, cospl
 ay\, shoes\, jewelry\, hats or accessories. If you wear it\, the runway ca
 n handle it. As long as it's designed by you\, it's welcomed to compete.\n
 \nAwards will be handed out in 4 categories including one People’s Choic
 e category where the winner is anyone’s guess:  \n Digital (electronic\,
  led\, etc)\n Smart wear (interactive\, temperature sensing\, mood changin
 g\, etc)\n Aesthetics and More (3d printed\, geeky wear\, passive design\,
  obfuscation\, lock picks\, shims\, card skimmers\, cosplay)\n People’s 
 Choice\n Judgement based on\, but not limited to:\n\n Uniqueness\n Trendy\
 n Practical\n Couture\n Creativity\n Relevance\n Originality\n Presentatio
 n\n Mastery
URL:https://forum.defcon.org/node/236630
DTSTART;VALUE=DATE:20210806
DTEND;VALUE=DATE:20210809
END:VEVENT
END:VCALENDAR
