BEGIN:VCALENDAR
PRODID:-//vBulletin 6//EN
VERSION:2.0
CALSCALE:GREGORIAN
BEGIN:VEVENT
UID:a231297b-ed8d-447f-aaea-8c52f11ccc3b
DTSTAMP:20260423T012601Z
SUMMARY:IGNORE TEST new event\, 12-12-2021\, Dec 12\, 2021\, 8pm to 9pm\, i
 gnore DST yes
DESCRIPTION:IGNORE TEST new event\, 5-12-2021\, Dec 12\, 2021\, 8pm to 9pm\
 , ignore DST yes
URL:https://forum.defcon.org/node/236887
DTSTART:20211213T040000Z
DTEND:20211213T050001Z
END:VEVENT
END:VCALENDAR
