BEGIN:VCALENDAR
PRODID:-//vBulletin 6//EN
VERSION:2.0
CALSCALE:GREGORIAN
BEGIN:VEVENT
UID:52032155-2662-4ee6-a673-f2b584c81df4
DTSTAMP:20260420T020634Z
SUMMARY:IoT Village CFP Closes June 30
DESCRIPTION:The IoT Village CFP for DEF CON 29  is open and accepting submi
 ssions!\n\nDeadline: June 30\n\nSubmit your IoT related presentation ideas
  here:\nhttps://docs.google.com/forms/d/e/1FAIpQLSdNAJ9PqqNfkrJ7_4lmWgXeDM
 IqjUBhRydhpeM3tNjnkIvRfg/viewform\n\nDownload the .ics reminder file:
URL:https://forum.defcon.org/node/237084
DTSTART;VALUE=DATE:20210630
LOCATION:https://docs.google.com/forms/d/e/1FAIpQLSdNAJ9PqqNfkrJ7_4lmWgXeDM
 IqjUBhRydhpeM3tNjnkIvRfg/viewform
END:VEVENT
END:VCALENDAR
