BEGIN:VCALENDAR
PRODID:-//vBulletin 6//EN
VERSION:2.0
CALSCALE:GREGORIAN
BEGIN:VEVENT
UID:3ff7b2d2-a83e-4f89-b1ff-1edc95289573
DTSTAMP:20260420T033112Z
SUMMARY:DEF CON Movie Night 7-17 'O Brother Where Art Thou'
DESCRIPTION:Continuing with the estimable works of Joel and Ethan Coen\, th
 is week's selection is the mythic 'O Brother Where Art Thou'. Powerful all
 usions to 'The Odyssey' and a compelling blend of bluegrass and Magical Re
 alism - you will not be disappointed. Meet us on the DEF CON Discord serve
 r (discord.gg/defcon) in the movie-night-text channel at 8pm PST.\n\n.ics 
 reminder file:
URL:https://forum.defcon.org/node/237898
DTSTART:20210717T160000Z
DTEND:20210717T173001Z
LOCATION:DEF CON Discord Server
END:VEVENT
END:VCALENDAR
