BEGIN:VCALENDAR
PRODID:-//vBulletin 6//EN
VERSION:2.0
CALSCALE:GREGORIAN
BEGIN:VEVENT
UID:51238934-99db-4f89-ae1a-e062d567ca23
DTSTAMP:20260419T213442Z
SUMMARY:DEF CON Movie Night 8-28  Idiocracy
DESCRIPTION:Did you know 'Idiocracy' came out 15 years ago? Let's watch it 
 together to see how its cynical predictions hold up. Join us at 8pm Pacifi
 c on 8/28 in the movie-night-text channel of discord.gg/defcon.  Bring you
 r own Brawndo.
URL:https://forum.defcon.org/node/239567
DTSTART:20210829T040000Z
DTEND:20210829T060001Z
LOCATION:DEF CON Discord Server
END:VEVENT
END:VCALENDAR
