BEGIN:VCALENDAR
PRODID:-//vBulletin 6//EN
VERSION:2.0
CALSCALE:GREGORIAN
BEGIN:VEVENT
UID:5f2e9f13-6428-46e7-8d34-db42fbb518db
DTSTAMP:20260420T142947Z
SUMMARY:DEF CON Movie Night 9-11 - 'Hackers'
DESCRIPTION:'Hackers' finally ended up in the YouTube free-to-watch zone\, 
 so tonight's DEF CON Movie Night is 'Dances with Wolves'.\n\nJ/K\, it's Ha
 ckers. Join us on the #DEFCON Discord (discord.gg./defcon) in the movie-ni
 ght-text channel at 8pm Pacific. ☠️ the🌎! BYOB (Bring  Your Own rol
 lerBlades)
URL:https://forum.defcon.org/node/239610
DTSTART:20210912T040000Z
DTEND:20210912T063001Z
LOCATION:DEF CON Discord Server
END:VEVENT
END:VCALENDAR
