BEGIN:VCALENDAR
PRODID:-//vBulletin 6//EN
VERSION:2.0
CALSCALE:GREGORIAN
BEGIN:VEVENT
UID:8fa1f240-e892-402b-9fa4-cafe46182652
DTSTAMP:20260420T193858Z
SUMMARY:Crypto and Privacy Village CFP deadline closes Sunday 26 Jun 2022 1
 1:59:59pm PDT
DESCRIPTION:Crypto and Privacy Village CFP deadline closes Sunday 26 Jun 20
 22 11:59:59pm PDT\n  \n\nhttps://cfp.cryptovillage.org/
URL:https://forum.defcon.org/node/242016
DTSTART;VALUE=DATE:20220626
LOCATION:https://cfp.cryptovillage.org/
END:VEVENT
END:VCALENDAR
