BEGIN:VCALENDAR
PRODID:-//vBulletin 6//EN
VERSION:2.0
CALSCALE:GREGORIAN
BEGIN:VEVENT
UID:a44895e4-e4a0-46a3-9a94-d5bb97cc2e8d
DTSTAMP:20260419T205458Z
SUMMARY:RECON Village CFP Closes
DESCRIPTION:Recon Village CFP deadline is coming up on June 27\, 2022\n \nO
 ur website has more information https://reconvillage.org/cfp/\n\nSubmissio
 n can go directly to Google form: https://forms.gle/NQVTW3aZFcDAeDiL9\n\nO
 ur Recon+OSINT CTF - Team Registrations will be open from 1st July.
URL:https://forum.defcon.org/node/242098
DTSTART;VALUE=DATE:20220627
LOCATION:https://forms.gle/NQVTW3aZFcDAeDiL9
END:VEVENT
END:VCALENDAR
