BEGIN:VCALENDAR
PRODID:-//vBulletin 6//EN
VERSION:2.0
CALSCALE:GREGORIAN
BEGIN:VEVENT
UID:78f28f2a-9c8e-47e5-9601-79944656a33c
DTSTAMP:20260423T183310Z
SUMMARY:DEF CON 30 Chess Tournament: Signup
DESCRIPTION:DEF CON 30 Chess Tournament Signup.\nSee: https://forum.defcon.
 org/node/241371
URL:https://forum.defcon.org/node/242909
DTSTART:20220813T230000Z
DTEND:20220813T233001Z
LOCATION:Las Vegas\, NV\, DEF CON 30\, Room 133 Forum
END:VEVENT
END:VCALENDAR
