BEGIN:VCALENDAR
PRODID:-//vBulletin 6//EN
VERSION:2.0
CALSCALE:GREGORIAN
BEGIN:VEVENT
UID:c9bc9a2c-4730-40c2-bb53-7aebb4de8ebf
DTSTAMP:20260423T030503Z
SUMMARY:Movie Night 12-10 8pm PST - 'The Thin Man'
DESCRIPTION:Tonight's defconmovienight selection is a pre-Code (1934) myste
 ry set around Xmas in NYC - 'The Thin Man'. Join us for movie chat and hol
 iday cheer on the DC Discord (discord.gg/defcon) in the movie-night-text c
 hannel.
URL:https://forum.defcon.org/node/243893
DTSTART:20221211T040000Z
DTEND:20221211T060001Z
LOCATION:DEF CON Discord Server
END:VEVENT
END:VCALENDAR
