BEGIN:VCALENDAR
PRODID:-//vBulletin 6//EN
VERSION:2.0
CALSCALE:GREGORIAN
BEGIN:VEVENT
UID:c749e74d-4b80-4943-bba2-75751db49acd
DTSTAMP:20260424T074704Z
SUMMARY:Movie Night 3-18 ‘I Kill Giants’
DESCRIPTION:Join us for this week’s defconmovienight selection ‘I Kill 
 Giants’ at 8pm PST. It’s a cool little monster movie with great perfor
 mances\, solid cinematography and a surprising amount of heart\, Join us f
 or virtual snacks and real conversation in the movie-night-text channel of
  the DEF CON Discord (discord.gg/defcon).
URL:https://forum.defcon.org/node/244457
DTSTART:20230319T040000Z
DTEND:20230320T060001Z
LOCATION:DEF CON Discord
END:VEVENT
END:VCALENDAR
