BEGIN:VCALENDAR
PRODID:-//vBulletin 6//EN
VERSION:2.0
CALSCALE:GREGORIAN
BEGIN:VEVENT
UID:223058f0-daf8-459c-96eb-5d42df9058b7
DTSTAMP:20260425T230929Z
SUMMARY:Crypto and Privacy Village\, Sunday 10:00-14:00
DESCRIPTION:. [/URL]\n \n\n.​\nCrypto & Privacy Village\n\nWhen: Friday: 
 10 - 20:00\, Saturday: 10 - 20:00\, Sunday: 10 - 14:00\nWhere: Vista\, Fla
 mingo\n\nTwitter: @cryptovillage\nWebsite: [URL]https://cryptovillage.org 
 (filedata/fetch?filedataid=3820)\nDEFCON social: @cryptovillage@defcon.soc
 ial\n\nLaunched in 2014\, Crypto & Privacy Village (CPV) is a community-ru
 n village centered on privacy and cryptography that aims to educate and in
 form the general public\, students\, educators\, hackers\, security and pr
 ivacy professionals\, and policymakers. We provide a unique hybrid space t
 hat features talks\; a chill space for relaxing with friends\, doing CTFs\
 , and cross-industry networking\; the Gold Bug Challenge and desk for hint
 s and support\; privacy-related art installations\; and an information des
 k for questions about privacy and cryptography. Come talk with us about fa
 cial recognition technology\, privacy enhancing clothing\, or crypto backd
 oor laws!​​
URL:https://forum.defcon.org/node/244873
DTSTART:20230813T180000Z
DTEND:20230813T220001Z
LOCATION:Where: Vista\, Flamingo
END:VEVENT
END:VCALENDAR
