BEGIN:VCALENDAR
PRODID:-//vBulletin 6//EN
VERSION:2.0
CALSCALE:GREGORIAN
BEGIN:VEVENT
UID:8bf6705d-ac80-4000-8e3b-369dc03a5c36
DTSTAMP:20260425T232449Z
SUMMARY:Appsec Village\, Sunday 10:00-14:00
DESCRIPTION:. [/URL]\n \n\n\n\n\n\n.\nAppsec Village\n\nWhen: Friday to Sat
  10:00 - 20:00\, Sunday 10:00 to 14:00\nWhere: Savoy in Flamingo\nTwitter:
  @AppSec_Village (filedata/fetch?id=244881&d=1682286048)\nWebsite: [URL]ht
 tps://www.appsecvillage.com/\n\nThe first four AppSec Villages at DEF CON 
 were a resounding success. We\nlearned that whether in person or online\, 
 our AppSec community is fantastic.\nWe are pumped to be back bigger and be
 tter.\n\nCome immerse yourself in everything the world of application secu
 rity has\nto offer. Whether you are a red\, blue\, or purple teamer\, come
  learn from the\nbest of the best to exploit software vulnerabilities and 
 secure software.\nSoftware is everywhere\, and Application Security vulner
 abilities are lurking\naround every corner\, making the software attack su
 rface attractive for\nabuse. If you are just an AppSec n00b or launch dese
 rialization attacks for\nfun and profit\, you will find something to tickl
 e your interest at the\nAppSec Village.\n\nSoftware runs the world. Everyt
 hing from IoT\, medical devices\, the power\ngrid\, smart cars\, and votin
 g apps - all have software behind them. Such a\nvariety of topics will be 
 reflected in our cadre of guest speakers\nrepresenting all backgrounds and
  walks of life.\n\nAppSec Village welcomes all travelers to choose from ta
 lks and workshops by\nexpert community members\, an all-AppSec-focused CTF
 \, contests that challenge\nyour mind and your skillz\, and more. Bring yo
 ur thirst for knowledge and\npassion for breaking things\, and your visit 
 to AppSec Village will be\nthrilling!​​
URL:https://forum.defcon.org/node/244882
DTSTART:20230813T180000Z
DTEND:20230813T220001Z
LOCATION:Savoy in Flamingo
END:VEVENT
END:VCALENDAR
