BEGIN:VCALENDAR
PRODID:-//vBulletin 6//EN
VERSION:2.0
CALSCALE:GREGORIAN
BEGIN:VEVENT
UID:7f12d72c-f946-4114-88d1-2a363251c8e8
DTSTAMP:20260422T064448Z
SUMMARY:Embedded Systems Village\, Saturday 09:00-18:00
DESCRIPTION:. [/URL]\n \n\n.\nEmbedded Systems Village\n\nTwitter: @Embedde
 dVillage (filedata/fetch?id=245103&d=1683138067)\n\nWhen:\nFriday: 0900 - 
 1800\nSaturday: 0900 – 1800\nSunday: 0900 - 1400\nCTF ONLY in-person. So
 me labs will be made available virtually.\nWhere: Linq Evolution\n\nEmbedd
 ed systems exist at the intersection of hardware and software\, built to a
 ccomplish a specific task. Often these disciplines are dealt with individu
 ally\, but understanding the custom relationships between hardware and sof
 tware is key to performing security research on these devices.\n\nEmbedded
  Systems Village advances the security of embedded systems by hosting hand
 s-on hacking workshops\, showcasing new security research demos\, and orga
 nizing exciting hacking contests to educate attendees and manufacturers on
  the approach hackers use to attack these devices. Attendees will leave th
 e village with an understanding of how to reduce complex\, exotic devices 
 to their underlying embedded components and to extract the information req
 uired to use the tools and techniques taught at other villages where embed
 ded systems are on display.\n\nWhat we will bring:\nLabs: We have a lab pl
 atform that brings everyone from every skill level to the same playing fie
 ld with step by step instructions that aim to teach individuals specific t
 echniques and skills in a hands-on manner.\n\nInteractive Hacking Content:
  We want to showcase the weird and cool in the embedded device world\, and
  provide an opportunity for hackers to get hands-on experience hacking the
 m.\n\nContests: We are working on a brand new CTF contest that will suppor
 t everyone from the casual player (i.e. someone that only wants to drop in
  for a few minutes) all the way to the hardcore teams that are willing to 
 spend their full DEF CON engaged in our challenges.\nExpect unique devices
 \, new challenge formats and full DEF CON worth of fun.​\n\nExpect uniqu
 e devices\, new challenge formats and that WOW factor that our CTFs have h
 ad in the past. Building on our lessons learned and experience over the ye
 ars\, we are confident that this track will not disappoint!​\n\n. [URL=f
 iledata/fetch?id=245104&d=1683138157]\n \n\n.​
URL:https://forum.defcon.org/node/244913
DTSTART:20230812T170000Z
DTEND:20230813T020001Z
LOCATION:Linq Evolution
END:VEVENT
END:VCALENDAR
