BEGIN:VCALENDAR
PRODID:-//vBulletin 6//EN
VERSION:2.0
CALSCALE:GREGORIAN
BEGIN:VEVENT
UID:7b2dee9d-7044-4134-a6a1-e1c908e0ada9
DTSTAMP:20260421T060454Z
SUMMARY:Tamper Evident Village\, Friday 10:00-20:00
DESCRIPTION:.\n.\nTamper Evident Village\n\nWhen: Friday to Sat 10:00 - 20:
 00\, Sunday 10:00 to 14:00\nWhere: Bloq\, Linq\n\nTamper-evident" refers t
 o a physical security technology that provides evidence of tampering (acce
 ss\, damage\, repair\, or replacement) to determine authenticity or integr
 ity of a container or object(s). In practical terms\, this can be a piece 
 of tape that closes an envelope\, a plastic detainer that secures a hasp\,
  or an ink used to identify a legitimate document. Tamper-evident technolo
 gies are often confused with "tamper resistant" or "tamper proof" technolo
 gies which attempt to prevent tampering in the first place. Referred to in
 dividually as "seals\," many tamper technologies are easy to destroy\, but
  a destroyed (or missing) seal would provide evidence of tampering! The go
 al of the TEV is to teach attendees how these technologies work and how ma
 ny can be tampered with without leaving evidence.\n\nThe Tamper-Evident Vi
 llage includes the following contests and events:\n\nThe Box\; an electron
 ic tamper challenge. An extremely realistic explosive with traps\, alarms\
 , and a timer ticking down. One mistake and BOOM\, you're dead. Make every
  second count! Sign ups on-site when the TEV begins.\n\nTamper-Evident Kin
 g of the Hill\; a full-featured tamper challenge. Tamper single items at y
 our leisure and attempt to beat the current best. There can be only ONE! N
 o sign ups required\, play on-site when the TEV begins.\n\nBadge Counterfe
 iting Contest\; submit your best forgery of a DEF CON human badge. Other t
 arget badges are also available for those looking for more counterfeit fun
 !\n\nFor your viewing pleasure\, collections of high-security tamper-evide
 nt seals from around the world.\n\nSit-down presentations & demonstrations
  on various aspects of tamper-evident seals and methods to defeat them.\n\
 nHands-on fun with adhesive seals\, mechanical seals\, envelopes\, and evi
 dence bags.​​
URL:https://forum.defcon.org/node/245004
DTSTART:20230811T180000Z
DTEND:20230812T040001Z
LOCATION:Bloq\, Linq
END:VEVENT
END:VCALENDAR
