BEGIN:VCALENDAR
PRODID:-//vBulletin 6//EN
VERSION:2.0
CALSCALE:GREGORIAN
BEGIN:VEVENT
UID:8e4b1103-51c8-4c62-ac75-25465cba5a10
DTSTAMP:20260422T085425Z
SUMMARY:The &quot\;DEF CON CTF&quot\; Qualifiers end May 29\, 2023 00:00 UT
 C
DESCRIPTION:Announced on https://defcon.org/\nhttps://nautilus.institute/ h
 as:\nQualifications begin: May 27\, 2023 00:00 UTC (or 32 bit clock with n
 umber of seconds since epoch of Jan 1\, 1970 GMT-0: 1685145600) for DEF CO
 N 31 CTF\nQualifications end: May 29\, 2023 00:00 UTC (or 32 bit clock wit
 h number of seconds since epoch of Jan 1\, 1970 GMT-0: 1685318400) for DEF
  CON 31 CTF\n\nSign-up appears to be:\nhttps://quals.2023.nautilus.institu
 te/\n​​\n\n\n​
URL:https://forum.defcon.org/node/245182
DTSTART;VALUE=DATE:20230529
LOCATION:https://quals.2023.nautilus.institute/
END:VEVENT
END:VCALENDAR
