BEGIN:VCALENDAR
PRODID:-//vBulletin 6//EN
VERSION:2.0
CALSCALE:GREGORIAN
BEGIN:VEVENT
UID:585b653e-7ff6-4681-8c8c-24e77c1aa6ed
DTSTAMP:20260425T215202Z
SUMMARY:XRVillage\, Friday 10:00-20:00
DESCRIPTION:.. [/URL]\n \n\n\n\n..\nWhen:\nFriday: 10:00 – 20:00\nSaturda
 y: 10:00 – 20:00\nSunday: 10:00 – 14:00\n\nWhere: Contest Area\, Forum
 s\n\nTwitter: @XRVillage (filedata/fetch?id=245456&d=1684783222)\nWebsite:
  [URL]https://xrvillage.org/\n\nAugmented reality (AR)\, virtual reality (
 VR)\, collectively referred to extended reality (XR) technologies have the
  potential to revolutionize the way we interact with the world around us. 
 However\, as with any new technology\, there are security and privacy conc
 erns that must be addressed.\nThese concerns include data privacy\, hackin
 g of haptic hardware\, software\, and XR Infrastructure and public safety.
  In XR systems\, personal information\, such as location data and biometri
 c information\, can be collected and shared without the user's knowledge o
 r consent.\nCurrent XR development platforms for these technologies do not
  allow for built in security\, safety\, and privacy.\n\nThe XRVillage was 
 created to:\n\nThe Vision\nTo promote Security\, Privacy\, and Safety for 
 XR software\, hardware\, and environments including the Metaverse\, throug
 h awareness\, education\, policy and legal coordination\, and exploitation
  and remediation of known and unknown vulnerabilities.\n\nThe Mission\nPro
 vide access to XR devices and applications for the security community for 
 vulnerability testing\; provide guidance & collaborative recommendations b
 ack to Policy makers\, legislators\, law enforcement\, vendors\, users\, a
 nd the world on best Security\, Privacy\, and Safety practices in XR\n\nAt
  the Defcon31 XRVillage hackers can expect expert XR security talks\, poli
 cy and legal discussions\, and a Hands-on Haptics Hackathon. XR devices wi
 ll be on hand to demonstrate applications and environments such as BadVR w
 /Microsoft HoloLens (Example) showing virtual visibility to all surroundin
 g WIFI networks via AR. They and others will show what is already being bu
 ilt in XR environments that may\, or may not cross a line for privacy\, sa
 fety\, and security in the space. Specific breakout sessions will be avail
 able for hackers to discuss current efforts by XR Vendors to address secur
 ity concerns.\n\nExpert XR Security Talks will focus on exploitation of XR
  in the wild: What’s been done and what’s coming.\nA Policy & Legislat
 ion panel of Global Governments and Law Enforcement Agencies will discuss 
 challenges with current policies\, and their limitations in enforcing priv
 acy\, safety\, and security in XR. The panel will include a lengthy Q&A fo
 r hackers to present their thoughts.\nHackers will get their hands dirty w
 ith the Hands-On Haptics Hackathon. They will be given XR headsets within 
 a test environment to identify specific vulnerabilities\; with extra credi
 t to anyone who finds new ones.\nHackers will have many different elements
  of XR to immerse themselves in\, challenge their preconceptions of XR\, a
 nd inspire them to learn more.\n​​
URL:https://forum.defcon.org/node/245212
DTSTART:20230811T180000Z
DTEND:20230812T040001Z
LOCATION:Contest Area\, Forums
END:VEVENT
END:VCALENDAR
