BEGIN:VCALENDAR
PRODID:-//vBulletin 6//EN
VERSION:2.0
CALSCALE:GREGORIAN
BEGIN:VEVENT
UID:8af67d1c-5408-44fe-b73b-8fdcb1222ed0
DTSTAMP:20260422T200635Z
SUMMARY:HardWired\, Sunday 09:00-13:00
DESCRIPTION:.. [/URL]\n \n\n\n..\nHardWired\n\nFriday: 09:00-14:00\nSaturda
 y: 09:00-14:00\nSunday: 09:00 - 13:00\nForum\, Packet Hacking Village\, Ac
 ademy 413\, in-person\n\nWebsites:\n[URL="https://www.capturethepacket.com
 /"]https://www.capturethepacket.com (filedata/fetch?id=245295&d=1684535477
 )\nhttps://www.ariessecurity.com (https://www.ariessecurity.com/)\n\nDEFCO
 N Discord: https://discord.com/channels/708208267699945503/ (https://disco
 rd.com/channels/708208267699945503/711643512625430529)\nTwitter: @capturet
 p (https://twitter.com/capturetp) @wallofsheep (https://twitter.com/wallof
 sheep)\n\nHave you ever built a hardwired network? It sounds simple. Follo
 w the cabling diagram\, use the crimpers\, and voila. But we’ve added a 
 twist: this is cable construction on the clock. Whether you’re a seasone
 d pro or a complete newbie\, we provide all the tools necessary for you to
  hone your skills and race against time to create and test a working cable
 . Come play HardWired and show us what you’ve got!​​
URL:https://forum.defcon.org/node/245296
DTSTART:20230813T170000Z
DTEND:20230813T210001Z
LOCATION:Forum\, Packet Hacking Village\, Academy 413
END:VEVENT
END:VCALENDAR
